{
 "currentVersion": 11.2,
 "serviceDescription": "Sentinel 2A/2B Data",
 "name": "Harsac/Mining_Mosaic_New_Catalog",
 "description": "Sentinel 2A/2B Data",
 "extent": {
  "xmin": 8288413.152646665,
  "ymin": 3202158.4550465336,
  "xmax": 8647933.152646665,
  "ymax": 3627158.4550465336,
  "spatialReference": {
   "wkid": 102100,
   "latestWkid": 3857
  }
 },
 "initialExtent": {
  "xmin": 8288413.152646665,
  "ymin": 3202158.4550465336,
  "xmax": 8647933.152646665,
  "ymax": 3627158.4550465336,
  "spatialReference": {
   "wkid": 102100,
   "latestWkid": 3857
  }
 },
 "fullExtent": {
  "xmin": 8288413.152646665,
  "ymin": 3202158.4550465336,
  "xmax": 8647933.152646665,
  "ymax": 3627158.4550465336,
  "spatialReference": {
   "wkid": 102100,
   "latestWkid": 3857
  }
 },
 "sortableFields": "",
 "bandCount": 3,
 "pixelType": "U16",
 "minValues": [
  1,
  1,
  1
 ],
 "maxValues": [
  65535,
  65535,
  65535
 ],
 "meanValues": [
  2403.480722421093,
  1569.0612064665281,
  1377.0748057273859
 ],
 "stdvValues": [
  1646.9135542773997,
  1467.309424574808,
  1375.9408115373433
 ],
 "hasMultidimensions": false,
 "pixelSizeX": 9.999999999999973,
 "pixelSizeY": 10,
 "meanPixelSize": 9.999999999999986,
 "datasetFormat": "AMD",
 "uncompressedSize": 9167760000,
 "blockWidth": 2048,
 "blockHeight": 256,
 "compressionType": "None",
 "bandNames": [
  "Band_1",
  "Band_2",
  "Band_3"
 ],
 "allowCopy": true,
 "allowAnalysis": true,
 "itemAccess": false,
 "inspectionCapabilities": "",
 "minPixelSize": 0.5971642835598167,
 "maxPixelSize": 611.4962262813791,
 "copyrightText": "HARSAC",
 "serviceDataType": "esriImageServiceDataTypeGeneric",
 "serviceSourceType": "esriImageServiceSourceTypeMosaicDataset",
 "objectIdField": "objectid",
 "fields": [
  {
   "name": "objectid",
   "type": "esriFieldTypeOID",
   "alias": "OBJECTID",
   "domain": null
  },
  {
   "name": "name",
   "type": "esriFieldTypeString",
   "alias": "Name",
   "domain": null,
   "length": 256
  },
  {
   "name": "shape",
   "type": "esriFieldTypeGeometry",
   "alias": "Shape",
   "domain": null
  },
  {
   "name": "date",
   "type": "esriFieldTypeDate",
   "alias": "date",
   "domain": null,
   "length": 8
  },
  {
   "name": "date2",
   "type": "esriFieldTypeDate",
   "alias": "date2",
   "domain": null,
   "length": 8
  },
  {
   "name": "st_area(shape)",
   "type": "esriFieldTypeDouble",
   "alias": "st_area(shape)",
   "domain": null
  },
  {
   "name": "st_length(shape)",
   "type": "esriFieldTypeDouble",
   "alias": "st_length(shape)",
   "domain": null
  }
 ],
 "capabilities": "Image,Metadata,Catalog",
 "defaultMosaicMethod": "Northwest",
 "allowedMosaicMethods": "NorthWest,Center,LockRaster,ByAttribute,Nadir,Viewpoint,Seamline,None",
 "sortField": "",
 "sortValue": null,
 "sortAscending": true,
 "mosaicOperator": "First",
 "maxDownloadSizeLimit": 2048,
 "defaultCompressionQuality": 75,
 "defaultResamplingMethod": "Bilinear",
 "maxImageHeight": 4100,
 "maxImageWidth": 15000,
 "maxRecordCount": 1000,
 "maxDownloadImageCount": 20,
 "maxMosaicImageCount": 20,
 "singleFusedMapCache": true,
 "tileInfo": {
  "rows": 256,
  "cols": 256,
  "dpi": 96,
  "format": "MIXED",
  "compressionQuality": 75,
  "origin": {
   "x": -2.0037508342787E7,
   "y": 2.0037508342787E7
  },
  "spatialReference": {
   "wkid": 102100,
   "latestWkid": 3857
  },
  "lods": [
   {
    "level": 0,
    "resolution": 156543.033928,
    "scale": 5.91657527591555E8
   },
   {
    "level": 1,
    "resolution": 78271.5169639999,
    "scale": 2.95828763795777E8
   },
   {
    "level": 2,
    "resolution": 39135.7584820001,
    "scale": 1.47914381897889E8
   },
   {
    "level": 3,
    "resolution": 19567.8792409999,
    "scale": 7.3957190948944E7
   },
   {
    "level": 4,
    "resolution": 9783.93962049996,
    "scale": 3.6978595474472E7
   },
   {
    "level": 5,
    "resolution": 4891.96981024998,
    "scale": 1.8489297737236E7
   },
   {
    "level": 6,
    "resolution": 2445.98490512499,
    "scale": 9244648.868618
   },
   {
    "level": 7,
    "resolution": 1222.99245256249,
    "scale": 4622324.434309
   },
   {
    "level": 8,
    "resolution": 611.49622628138,
    "scale": 2311162.217155
   },
   {
    "level": 9,
    "resolution": 305.748113140558,
    "scale": 1155581.108577
   },
   {
    "level": 10,
    "resolution": 152.874056570411,
    "scale": 577790.554289
   },
   {
    "level": 11,
    "resolution": 76.4370282850732,
    "scale": 288895.277144
   },
   {
    "level": 12,
    "resolution": 38.2185141425366,
    "scale": 144447.638572
   },
   {
    "level": 13,
    "resolution": 19.1092570712683,
    "scale": 72223.819286
   },
   {
    "level": 14,
    "resolution": 9.55462853563415,
    "scale": 36111.909643
   },
   {
    "level": 15,
    "resolution": 4.77731426794937,
    "scale": 18055.954822
   },
   {
    "level": 16,
    "resolution": 2.38865713397468,
    "scale": 9027.977411
   },
   {
    "level": 17,
    "resolution": 1.19432856685505,
    "scale": 4513.988705
   },
   {
    "level": 18,
    "resolution": 0.597164283559817,
    "scale": 2256.994353
   },
   {
    "level": 19,
    "resolution": 0.298582141647617,
    "scale": 1128.497176
   },
   {
    "level": 20,
    "resolution": 0.14929107082380833,
    "scale": 564.248588
   },
   {
    "level": 21,
    "resolution": 0.07464553541190416,
    "scale": 282.124294
   },
   {
    "level": 22,
    "resolution": 0.03732276770595208,
    "scale": 141.062147
   },
   {
    "level": 23,
    "resolution": 0.01866138385297604,
    "scale": 70.5310735
   }
  ]
 },
 "storageInfo": {
  "storageFormat": "esriMapCacheStorageModeCompactV2",
  "packetSize": 128
 },
 "cacheType": "Map",
 "allowRasterFunction": true,
 "rasterFunctionInfos": [
  {
   "name": "None",
   "description": "A No-Op Function.",
   "help": ""
  }
 ],
 "rasterTypeInfos": [
  {
   "name": "Raster Dataset",
   "description": "Supports all ArcGIS Raster Datasets",
   "help": ""
  }
 ],
 "mensurationCapabilities": "None",
 "hasHistograms": true,
 "hasColormap": false,
 "hasRasterAttributeTable": false,
 "minScale": 2311162.217155,
 "maxScale": 2256.994353,
 "minLOD": 8,
 "maxLOD": 18,
 "exportTilesAllowed": false,
 "supportsStatistics": true,
 "supportsAdvancedQueries": true,
 "editFieldsInfo": null,
 "ownershipBasedAccessControlForRasters": null,
 "allowComputeTiePoints": false,
 "useStandardizedQueries": true,
 "advancedQueryCapabilities": {
  "useStandardizedQueries": true,
  "supportsStatistics": true,
  "supportsOrderBy": true,
  "supportsDistinct": true,
  "supportsPagination": true
 },
 "spatialReference": {
  "wkid": 102100,
  "latestWkid": 3857
 }
}
