View In:
ArcGIS JavaScript
ArcGIS Online Map Viewer
ArcGIS Earth
ArcGIS Pro
Service Description:
Map Name: FMDA_UAV_Sept2023
Legend
All Layers and Tables
Dynamic Legend
Dynamic All Layers
Layers:
Description:
Service Item Id: 020e79796cf44a2db4d26cb67e8ba7c1
Copyright Text:
Spatial Reference:
PROJCS["WGS_1984_UTM_Zone_43N",GEOGCS["GCS_WGS_1984",DATUM["D_WGS_1984",SPHEROID["WGS_1984",6378137.0,298.257223563]],PRIMEM["Greenwich",0.0],UNIT["Degree",0.0174532925199433]],PROJECTION["Transverse_Mercator"],PARAMETER["False_Easting",500000.0],PARAMETER["False_Northing",0.0],PARAMETER["Central_Meridian",75.0],PARAMETER["Scale_Factor",0.9996],PARAMETER["Latitude_Of_Origin",0.0],UNIT["Meter",1.0]],VERTCS["unknown",VDATUM["unknown"],PARAMETER["Vertical_Shift",0.0],PARAMETER["Direction",1.0],UNIT["Meter",1.0]]
Single Fused Map Cache: true
Tile Info:
- Height: 256
- Width: 256
- DPI: 96
-
Levels of Detail: 19
-
Level ID: 0
[ Start Tile, End Tile ]
- Resolution: 78109.09330483258
- Scale: 2.952154707584223E8
-
Level ID: 1
[ Start Tile, End Tile ]
- Resolution: 39054.54665241629
- Scale: 1.4760773537921116E8
-
Level ID: 2
[ Start Tile, End Tile ]
- Resolution: 19527.273326208146
- Scale: 7.380386768960558E7
-
Level ID: 3
[ Start Tile, End Tile ]
- Resolution: 9763.636663104073
- Scale: 3.690193384480279E7
-
Level ID: 4
[ Start Tile, End Tile ]
- Resolution: 4881.818331552036
- Scale: 1.8450966922401395E7
-
Level ID: 5
[ Start Tile, End Tile ]
- Resolution: 2440.909165776018
- Scale: 9225483.461200697
-
Level ID: 6
[ Start Tile, End Tile ]
- Resolution: 1220.454582888009
- Scale: 4612741.730600349
-
Level ID: 7
[ Start Tile, End Tile ]
- Resolution: 610.2272914440045
- Scale: 2306370.8653001743
-
Level ID: 8
[ Start Tile, End Tile ]
- Resolution: 305.1136457220023
- Scale: 1153185.4326500872
-
Level ID: 9
[ Start Tile, End Tile ]
- Resolution: 152.55682286100114
- Scale: 576592.7163250436
-
Level ID: 10
[ Start Tile, End Tile ]
- Resolution: 76.27841143050057
- Scale: 288296.3581625218
-
Level ID: 11
[ Start Tile, End Tile ]
- Resolution: 38.139205715250284
- Scale: 144148.1790812609
-
Level ID: 12
[ Start Tile, End Tile ]
- Resolution: 19.069602857625142
- Scale: 72074.08954063045
-
Level ID: 13
[ Start Tile, End Tile ]
- Resolution: 9.534801428812571
- Scale: 36037.044770315224
-
Level ID: 14
[ Start Tile, End Tile ]
- Resolution: 4.7674007144062855
- Scale: 18018.522385157612
-
Level ID: 15
[ Start Tile, End Tile ]
- Resolution: 2.3837003572031428
- Scale: 9009.261192578806
-
Level ID: 16
[ Start Tile, End Tile ]
- Resolution: 1.1918501786015714
- Scale: 4504.630596289403
-
Level ID: 17
[ Start Tile, End Tile ]
- Resolution: 0.5959250893007857
- Scale: 2252.3152981447015
-
Level ID: 18
[ Start Tile, End Tile ]
- Resolution: 0.29796254465039285
- Scale: 1126.1576490723508
- Format: Mixed
- Compression Quality: 75.0
- Origin: X: -9497963.94301857
Y: 9997963.94301857
- Spatial Reference: PROJCS["WGS_1984_UTM_Zone_43N",GEOGCS["GCS_WGS_1984",DATUM["D_WGS_1984",SPHEROID["WGS_1984",6378137.0,298.257223563]],PRIMEM["Greenwich",0.0],UNIT["Degree",0.0174532925199433]],PROJECTION["Transverse_Mercator"],PARAMETER["False_Easting",500000.0],PARAMETER["False_Northing",0.0],PARAMETER["Central_Meridian",75.0],PARAMETER["Scale_Factor",0.9996],PARAMETER["Latitude_Of_Origin",0.0],UNIT["Meter",1.0]],VERTCS["unknown",VDATUM["unknown"],PARAMETER["Vertical_Shift",0.0],PARAMETER["Direction",1.0],UNIT["Meter",1.0]]
Storage Info:
- Storage Format: esriMapCacheStorageModeCompactV2
- Packet Size: 128
Initial Extent:
XMin: 719747.2369684016
YMin: 3121380.4743214156
XMax: 766775.5329132939
YMax: 3155073.200235639
Spatial Reference: PROJCS["WGS_1984_UTM_Zone_43N",GEOGCS["GCS_WGS_1984",DATUM["D_WGS_1984",SPHEROID["WGS_1984",6378137.0,298.257223563]],PRIMEM["Greenwich",0.0],UNIT["Degree",0.0174532925199433]],PROJECTION["Transverse_Mercator"],PARAMETER["False_Easting",500000.0],PARAMETER["False_Northing",0.0],PARAMETER["Central_Meridian",75.0],PARAMETER["Scale_Factor",0.9996],PARAMETER["Latitude_Of_Origin",0.0],UNIT["Meter",1.0]],VERTCS["unknown",VDATUM["unknown"],PARAMETER["Vertical_Shift",0.0],PARAMETER["Direction",1.0],UNIT["Meter",1.0]]
Full Extent:
XMin: 731780.5560089619
YMin: 3129948.233905294
XMax: 742728.8611707585
YMax: 3146937.972231625
Spatial Reference: PROJCS["WGS_1984_UTM_Zone_43N",GEOGCS["GCS_WGS_1984",DATUM["D_WGS_1984",SPHEROID["WGS_1984",6378137.0,298.257223563]],PRIMEM["Greenwich",0.0],UNIT["Degree",0.0174532925199433]],PROJECTION["Transverse_Mercator"],PARAMETER["False_Easting",500000.0],PARAMETER["False_Northing",0.0],PARAMETER["Central_Meridian",75.0],PARAMETER["Scale_Factor",0.9996],PARAMETER["Latitude_Of_Origin",0.0],UNIT["Meter",1.0]],VERTCS["unknown",VDATUM["unknown"],PARAMETER["Vertical_Shift",0.0],PARAMETER["Direction",1.0],UNIT["Meter",1.0]]
Units: esriMeters
Supported Image Format Types: PNG32,PNG24,PNG,JPG,DIB,TIFF,EMF,PS,PDF,GIF,SVG,SVGZ,BMP
Document Info:
Title: Map
Author:
Comments:
Subject:
Category:
Keywords: FMDA_UAV_Sept2023_V2
AntialiasingMode: Fast
TextAntialiasingMode: Force
Supports Dynamic Layers: true
MaxRecordCount: 2000
MaxImageHeight: 4096
MaxImageWidth: 4096
Supported Query Formats: JSON, geoJSON, PBF
Supports Query Data Elements: true
Min Scale: 288296.3581625218
Max Scale: 1126.1576490723508
Min LOD: 10
Max LOD: 18
Supports Datum Transformation: true
Child Resources:
Info
Dynamic Layer
Supported Operations:
Export Map
Identify
QueryLegends
QueryDomains
Find
Return Updates