View In:
ArcGIS JavaScript
ArcGIS Online Map Viewer
ArcGIS Earth
Service Description: Image service Gurugram 7/12/2021
Name: Image_Data/Image_Service_GGM
Description: Image service Gurugram 7/12/2021
Single Fused Map Cache: false
Extent:
XMin: 8532164.253420943
YMin: 3273614.959509515
XMax: 8599474.253420943
YMax: 3318364.959509515
Spatial Reference: 102100
(3857)
Initial Extent:
XMin: 8532164.253420943
YMin: 3273614.959509515
XMax: 8599474.253420943
YMax: 3318364.959509515
Spatial Reference: 102100
(3857)
Full Extent:
XMin: 8532164.253420943
YMin: 3273614.959509515
XMax: 8599474.253420943
YMax: 3318364.959509515
Spatial Reference: 102100
(3857)
Pixel Size X: 10.0
Pixel Size Y: 10.0
Band Count: 4
Pixel Type: U16
RasterFunction Infos: {"rasterFunctionInfos": [{
"name": "None",
"description": "A No-Op Function.",
"help": ""
}]}
Mensuration Capabilities: None
Inspection Capabilities:
Has Histograms: true
Has Colormap: false
Has Multi Dimensions : false
Rendering Rule:
Min Scale: 0
Max Scale: 0
Copyright Text: GIS Division|GMDA|
Service Data Type: esriImageServiceDataTypeGeneric
Min Values: 0, 0, 0, 0
Max Values: 18775, 17152, 19387, 19423
Mean Values: 1413.6436368970953, 1432.310445954877, 1306.6075389780447, 2771.78869373101
Standard Deviation Values: 179.13228965475966, 208.11481116421055, 332.05337571721714, 440.1460578239236
Object ID Field: objectid
Fields:
-
objectid
(
type: esriFieldTypeOID, alias: OBJECTID
)
-
name
(
type: esriFieldTypeString, alias: Name, length: 256
)
-
shape
(
type: esriFieldTypeGeometry, alias: Shape
)
-
date
(
type: esriFieldTypeDate, alias: date, length: 8
)
-
st_area(shape)
(
type: esriFieldTypeDouble, alias: st_area(shape)
)
-
st_length(shape)
(
type: esriFieldTypeDouble, alias: st_length(shape)
)
Default Mosaic Method: Northwest
Allowed Mosaic Methods: NorthWest,Center,LockRaster,ByAttribute,Nadir,Viewpoint,Seamline,None
SortField:
SortValue: null
Mosaic Operator: First
Default Compression Quality: 75
Default Resampling Method: Bilinear
Max Record Count: 1000
Max Image Height: 4100
Max Image Width: 15000
Max Download Image Count: 20
Max Mosaic Image Count: 20
Allow Raster Function: true
Allow Copy: true
Allow Analysis: true
Allow Compute TiePoints: false
Supports Statistics: true
Supports Advanced Queries: true
Use StandardizedQueries: true
Raster Type Infos:
Name: Raster Dataset
Description: Supports all ArcGIS Raster Datasets
Help:
Has Raster Attribute Table: false
Edit Fields Info: null
Ownership Based AccessControl For Rasters: null
Child Resources:
Info
Histograms
Statistics
Key Properties
Legend
Raster Function Infos
Supported Operations:
Export Image
Query
Identify
Compute Histograms
Compute Statistics Histograms
Get Samples
Compute Class Statistics
Query GPS Info
Find Images
Image to Map
Map to Image
Measure from Image
Image to Map Multiray
Query Boundary
Compute Pixel Location
Compute Angles
Validate
Project