View In:
ArcGIS JavaScript
ArcGIS Online Map Viewer
ArcGIS Earth
Service Description: Soil Index Gurugram
Name: Image_Data/Soil_Index_GGM
Description: Soil Index Gurugram
Single Fused Map Cache: false
Extent:
XMin: 8532340
YMin: 3273756.5788546293
XMax: 8598862.666484293
YMax: 3317753.2206143527
Spatial Reference: 102100
(3857)
Initial Extent:
XMin: 8532340
YMin: 3273756.5788546293
XMax: 8598862.666484293
YMax: 3317753.2206143527
Spatial Reference: 102100
(3857)
Full Extent:
XMin: 8532340
YMin: 3273756.5788546293
XMax: 8598862.666484293
YMax: 3317753.2206143527
Spatial Reference: 102100
(3857)
Pixel Size X: 10.660683731457146
Pixel Size Y: 10.660683731457093
Band Count: 1
Pixel Type: F32
RasterFunction Infos: {"rasterFunctionInfos": [{
"name": "None",
"description": "A No-Op Function.",
"help": ""
}]}
Mensuration Capabilities: None
Inspection Capabilities:
Has Histograms: true
Has Colormap: false
Has Multi Dimensions : false
Rendering Rule:
Min Scale: 0
Max Scale: 0
Copyright Text: GIS Division|GMDA
Service Data Type: esriImageServiceDataTypeGeneric
Min Values: -0.8351144790649414
Max Values: 0.8911548852920532
Mean Values: -0.053925633995979654
Standard Deviation Values: 0.21386009678712706
Object ID Field: objectid
Fields:
-
objectid
(
type: esriFieldTypeOID, alias: OBJECTID
)
-
name
(
type: esriFieldTypeString, alias: Name, length: 256
)
-
shape
(
type: esriFieldTypeGeometry, alias: Shape
)
-
date
(
type: esriFieldTypeDate, alias: date, length: 8
)
-
st_area(shape)
(
type: esriFieldTypeDouble, alias: st_area(shape)
)
-
st_length(shape)
(
type: esriFieldTypeDouble, alias: st_length(shape)
)
Default Mosaic Method: Northwest
Allowed Mosaic Methods: NorthWest,Center,LockRaster,ByAttribute,Nadir,Viewpoint,Seamline,None
SortField:
SortValue: null
Mosaic Operator: First
Default Compression Quality: 75
Default Resampling Method: Bilinear
Max Record Count: 1000
Max Image Height: 4100
Max Image Width: 15000
Max Download Image Count: 20
Max Mosaic Image Count: 20
Allow Raster Function: true
Allow Copy: true
Allow Analysis: true
Allow Compute TiePoints: false
Supports Statistics: true
Supports Advanced Queries: true
Use StandardizedQueries: true
Raster Type Infos:
Name: Raster Dataset
Description: Supports all ArcGIS Raster Datasets
Help:
Has Raster Attribute Table: false
Edit Fields Info: null
Ownership Based AccessControl For Rasters: null
Child Resources:
Info
Histograms
Statistics
Key Properties
Legend
Raster Function Infos
Supported Operations:
Export Image
Query
Identify
Compute Histograms
Compute Statistics Histograms
Get Samples
Compute Class Statistics
Query GPS Info
Find Images
Image to Map
Map to Image
Measure from Image
Image to Map Multiray
Query Boundary
Compute Pixel Location
Compute Angles
Validate
Project